BEGIN:VCALENDAR
VERSION:2.0
PRODID:-//Rhythmz Lounge - ECPv6.15.17.1//NONSGML v1.0//EN
CALSCALE:GREGORIAN
METHOD:PUBLISH
X-WR-CALNAME:Rhythmz Lounge
X-ORIGINAL-URL:https://www.rhythmzlounge.com
X-WR-CALDESC:Events for Rhythmz Lounge
REFRESH-INTERVAL;VALUE=DURATION:PT1H
X-Robots-Tag:noindex
X-PUBLISHED-TTL:PT1H
BEGIN:VTIMEZONE
TZID:America/Chicago
BEGIN:DAYLIGHT
TZOFFSETFROM:-0600
TZOFFSETTO:-0500
TZNAME:CDT
DTSTART:20240310T080000
END:DAYLIGHT
BEGIN:STANDARD
TZOFFSETFROM:-0500
TZOFFSETTO:-0600
TZNAME:CST
DTSTART:20241103T070000
END:STANDARD
BEGIN:DAYLIGHT
TZOFFSETFROM:-0600
TZOFFSETTO:-0500
TZNAME:CDT
DTSTART:20250309T080000
END:DAYLIGHT
BEGIN:STANDARD
TZOFFSETFROM:-0500
TZOFFSETTO:-0600
TZNAME:CST
DTSTART:20251102T070000
END:STANDARD
BEGIN:DAYLIGHT
TZOFFSETFROM:-0600
TZOFFSETTO:-0500
TZNAME:CDT
DTSTART:20260308T080000
END:DAYLIGHT
BEGIN:STANDARD
TZOFFSETFROM:-0500
TZOFFSETTO:-0600
TZNAME:CST
DTSTART:20261101T070000
END:STANDARD
BEGIN:DAYLIGHT
TZOFFSETFROM:-0600
TZOFFSETTO:-0500
TZNAME:CDT
DTSTART:20270314T080000
END:DAYLIGHT
BEGIN:STANDARD
TZOFFSETFROM:-0500
TZOFFSETTO:-0600
TZNAME:CST
DTSTART:20271107T070000
END:STANDARD
END:VTIMEZONE
BEGIN:VEVENT
DTSTART;TZID=America/Chicago:20260117T220000
DTEND;TZID=America/Chicago:20260118T020000
DTSTAMP:20260419T135930
CREATED:20260107T013056Z
LAST-MODIFIED:20260107T013056Z
UID:10000053-1768687200-1768701600@www.rhythmzlounge.com
SUMMARY:Banda VS Corridos
DESCRIPTION:🔥 BANDA vs CORRIDOS\n\nThis Saturday\, January 17\, experience the ultimate Banda vs Corridos showdown at Rhythmz Lounge.\n\n🎺 Banda classics & heavy hits\n🎸 Corridos that run the streets\n🎧 DJ Alexander + Guest\n\n💃 Ladies free until 11:00 PM\n🕙 Doors open at 10:00 PM\n🍾 VIP tables available\n\n🎟️ Limited capacity\, secure your tickets now
URL:https://www.rhythmzlounge.com/event/banda-vs-corridos/
LOCATION:Rhythmz Lounge\, 10841 Q Street\, Omaha\, NE\, 68137\, United States
ATTACH;FMTTYPE=image/jpeg:https://www.rhythmzlounge.com/wp-content/uploads/2026/01/dfd-09876s-zxcxv.jpg
ORGANIZER;CN="Rhythmz Lounge":MAILTO:rhythmzlounge@gmail.com
END:VEVENT
BEGIN:VEVENT
DTSTART;TZID=America/Chicago:20260116T220000
DTEND;TZID=America/Chicago:20260117T020000
DTSTAMP:20260419T135930
CREATED:20260107T013950Z
LAST-MODIFIED:20260107T013950Z
UID:10000054-1768600800-1768615200@www.rhythmzlounge.com
SUMMARY:Reggaeton X Perreo vol.1
DESCRIPTION:Reggaeton x Perreo: Y2K Edition Vol. 1\nPresented by Rhythmz\n\nStep back into the Dos Mil Era for a night of nonstop Reggaeton\, Perreo\, and throwback Y2K vibes. From iconic early-2000s sounds to today’s hottest Latin hits\, this party is all about energy\, nostalgia\, and turning the dance floor all the way up.\n\n🔥 DJ Juve vs DJ OP go head-to-head\, delivering explosive sets that keep the crowd moving all night.\n👖 Rock your best Y2K fit — Best outfit wins VIP.\n⏰ Doors open at 10:00 PM with FREE entry before 11:00 PM.\n\nExpect a packed dance floor\, elite vibes\, and the ultimate Latin nightlife experience in Omaha.\n\n📍 10841 Q St\, Omaha\, NE 68137\n🍾 VIP & Table Reservations: 402-955-9269
URL:https://www.rhythmzlounge.com/event/reggaeton-x-perreo-vol-1/
LOCATION:Rhythmz Lounge\, 10841 Q Street\, Omaha\, NE\, 68137\, United States
ATTACH;FMTTYPE=image/jpeg:https://www.rhythmzlounge.com/wp-content/uploads/2026/01/dfsgfdgfdhdf-45646-5uvcb-vc.jpg
ORGANIZER;CN="Rhythmz Lounge":MAILTO:rhythmzlounge@gmail.com
END:VEVENT
BEGIN:VEVENT
DTSTART;TZID=America/Chicago:20260115T220000
DTEND;TZID=America/Chicago:20260116T020000
DTSTAMP:20260419T135930
CREATED:20251228T220052Z
LAST-MODIFIED:20251228T220052Z
UID:10000050-1768514400-1768528800@www.rhythmzlounge.com
SUMMARY:Pajama College Night Party
DESCRIPTION:#1 College parties in Omaha\, NE.
URL:https://www.rhythmzlounge.com/event/pajama-college-night-party/
LOCATION:Rhythmz Lounge\, 10841 Q Street\, Omaha\, NE\, 68137\, United States
ATTACH;FMTTYPE=image/png:https://www.rhythmzlounge.com/wp-content/uploads/2025/12/ChatGPT-Image-Dec-28-2025-03_16_07-PM.png
ORGANIZER;CN="Rhythmz Lounge":MAILTO:rhythmzlounge@gmail.com
END:VEVENT
BEGIN:VEVENT
DTSTART;TZID=America/Chicago:20260110T210000
DTEND;TZID=America/Chicago:20260111T020000
DTSTAMP:20260419T135930
CREATED:20260105T044151Z
LAST-MODIFIED:20260107T020608Z
UID:10000052-1768078800-1768096800@www.rhythmzlounge.com
SUMMARY:El As de la Sierra – Live
DESCRIPTION:📅 Saturday\, January 10\n⏰ Doors open at 9:00 PM\n📍 Rhythmz Lounge – Omaha\, NE \n🍾 VIP TABLES \n📞 402.955.9269
URL:https://www.rhythmzlounge.com/event/el-as-de-la-sierra-live/
LOCATION:Rhythmz Lounge\, 10841 Q Street\, Omaha\, NE\, 68137\, United States
ATTACH;FMTTYPE=image/png:https://www.rhythmzlounge.com/wp-content/uploads/2026/01/B48B0E1A-A18D-4550-B506-AA6F6204768D.png
ORGANIZER;CN="Rhythmz Lounge":MAILTO:rhythmzlounge@gmail.com
END:VEVENT
BEGIN:VEVENT
DTSTART;TZID=America/Chicago:20251231T220000
DTEND;TZID=America/Chicago:20260115T013000
DTSTAMP:20260419T135930
CREATED:20251218T190254Z
LAST-MODIFIED:20251219T082626Z
UID:10000049-1767218400-1768440600@www.rhythmzlounge.com
SUMMARY:2026 NYE Party
DESCRIPTION:#1 College parties in Omaha. \nImportant dress code disclaimer: \nNot Allowed\n \n\nSweatpants\, shorts\, leggings\nHoodies\nBaseball hats\, durags\, bonnets\nFlip flops\, sandals\, football cleats\nSwimsuits\n\nAllowed \n\nJeans\, dress pants\, khakis\nDresses\, skirts\nDress shoes\, casual shoes\, heels\nButton up shirts\, polos\, casual\nWedding attire\nRed carpet attire\n\nCoat check is provided at the door. \nThis is a high end experience. Respect the dress code or you WILL be denied entry with no refund. \n 
URL:https://www.rhythmzlounge.com/event/2026-nye-party/
LOCATION:Rhythmz Lounge\, 10841 Q Street\, Omaha\, NE\, 68137\, United States
ATTACH;FMTTYPE=image/png:https://www.rhythmzlounge.com/wp-content/uploads/2025/12/Copy-of-Sized-for-photo-frames-copy.png
ORGANIZER;CN="Rhythmz Lounge":MAILTO:rhythmzlounge@gmail.com
END:VEVENT
BEGIN:VEVENT
DTSTART;TZID=America/Chicago:20251213T200000
DTEND;TZID=America/Chicago:20251214T020000
DTSTAMP:20260419T135930
CREATED:20251119T173221Z
LAST-MODIFIED:20251212T180129Z
UID:10000044-1765656000-1765677600@www.rhythmzlounge.com
SUMMARY:Dareyes DLS - Frecuencia Tour DLS
DESCRIPTION:NOCHE DE CORRIDOS | SÁBADO DIC 13\nPrepárate Omaha | Dareyes DLS llega con su Frecuencia Tour para encender la noche en Rhythmz Lounge.\nCántalo\, grítalo y vívelo\, esta noche es pa’ la raza que le gusta el corrido pesado. \n🔞 18+ para entrar | 21+ para tomar\n⏰ Puertas abren 8PM\n📍 10841 Q St. Omaha\, NE\n📞 INFO 402.955.9269 \n¿Quién viene? Tagga a tu crew. 🤘🔥
URL:https://www.rhythmzlounge.com/event/dareyes-dls-frecuencia-tour-dls/
LOCATION:Rhythmz Lounge\, 10841 Q Street\, Omaha\, NE\, 68137\, United States
ATTACH;FMTTYPE=image/jpeg:https://www.rhythmzlounge.com/wp-content/uploads/2025/11/7d4e40cd-7ba2-4a0d-a17e-d09b0d827cdb.jpeg
ORGANIZER;CN="Rhythmz Lounge":MAILTO:rhythmzlounge@gmail.com
END:VEVENT
BEGIN:VEVENT
DTSTART;TZID=America/Chicago:20251211T220000
DTEND;TZID=America/Chicago:20251212T013000
DTSTAMP:20260419T135930
CREATED:20251206T055658Z
LAST-MODIFIED:20251206T055847Z
UID:10000048-1765490400-1765503000@www.rhythmzlounge.com
SUMMARY:Naughty or Nice College Night Party
DESCRIPTION:Biggest Christmas college party in Omaha!
URL:https://www.rhythmzlounge.com/event/naughty-or-nice-college-night-party/
LOCATION:Rhythmz Lounge\, 10841 Q Street\, Omaha\, NE\, 68137\, United States
ATTACH;FMTTYPE=image/png:https://www.rhythmzlounge.com/wp-content/uploads/2025/12/Copy-of-Sized-for-photo-frames.png
ORGANIZER;CN="Rhythmz Lounge":MAILTO:rhythmzlounge@gmail.com
END:VEVENT
BEGIN:VEVENT
DTSTART;TZID=America/Chicago:20251204T220000
DTEND;TZID=America/Chicago:20251205T013000
DTSTAMP:20260419T135930
CREATED:20251130T082214Z
LAST-MODIFIED:20251130T082506Z
UID:10000047-1764885600-1764898200@www.rhythmzlounge.com
SUMMARY:2016 Throwback College Night Party
DESCRIPTION:#1 College parties in Omaha\, NE!
URL:https://www.rhythmzlounge.com/event/2016-throwback-college-night-party/
LOCATION:NE
ATTACH;FMTTYPE=image/png:https://www.rhythmzlounge.com/wp-content/uploads/2025/11/Copy-of-Sized-for-photo-frames-2.png
END:VEVENT
BEGIN:VEVENT
DTSTART;TZID=America/Chicago:20251128T220000
DTEND;TZID=America/Chicago:20251129T020000
DTSTAMP:20260419T135930
CREATED:20251120T001632Z
LAST-MODIFIED:20251120T001632Z
UID:10000045-1764367200-1764381600@www.rhythmzlounge.com
SUMMARY:Blackout Friday - Glow party Edition
DESCRIPTION:The club is under extreme surgical reconstruction… prepping for one of the most explosive nights of the year.\nGet your squad\, glow up\, and pull up for a full-vibe blackout experience. 🔥\n\n🎧 Music By:\nDJ Alexander • DJ OP • Guest DJ
URL:https://www.rhythmzlounge.com/event/blackout-friday-glow-party-edition/
LOCATION:Rhythmz Lounge\, 10841 Q Street\, Omaha\, NE\, 68137\, United States
ATTACH;FMTTYPE=image/jpeg:https://www.rhythmzlounge.com/wp-content/uploads/2025/11/blackout.jpg
ORGANIZER;CN="Rhythmz Lounge":MAILTO:rhythmzlounge@gmail.com
END:VEVENT
BEGIN:VEVENT
DTSTART;TZID=America/Chicago:20251126T220000
DTEND;TZID=America/Chicago:20251127T013000
DTSTAMP:20260419T135930
CREATED:20251124T015457Z
LAST-MODIFIED:20251125T082425Z
UID:10000046-1764194400-1764207000@www.rhythmzlounge.com
SUMMARY:Ugly Sweater College Night Party
DESCRIPTION:#1 College parties in Omaha\, NE. \n\nCapacity alert 🚨 Large turnout expected\nPresale tickets encouraged\nEarly arrival recommended
URL:https://www.rhythmzlounge.com/event/ugly-sweater-college-night-party/
LOCATION:Rhythmz Lounge\, 10841 Q Street\, Omaha\, NE\, 68137\, United States
ATTACH;FMTTYPE=image/png:https://www.rhythmzlounge.com/wp-content/uploads/2025/11/Copy-of-Sized-for-photo-frames-1.png
ORGANIZER;CN="Rhythmz Lounge":MAILTO:rhythmzlounge@gmail.com
END:VEVENT
BEGIN:VEVENT
DTSTART;TZID=America/Chicago:20251120T210000
DTEND;TZID=America/Chicago:20251121T013000
DTSTAMP:20260419T135930
CREATED:20251116T045421Z
LAST-MODIFIED:20251116T045518Z
UID:10000041-1763672400-1763688600@www.rhythmzlounge.com
SUMMARY:Jersey Shore College Night Party
DESCRIPTION:#1 College parties in Omaha\, NE.
URL:https://www.rhythmzlounge.com/event/jersey-shore-college-night-party/
LOCATION:Rhythmz Lounge\, 10841 Q Street\, Omaha\, NE\, 68137\, United States
ATTACH;FMTTYPE=image/png:https://www.rhythmzlounge.com/wp-content/uploads/2025/11/Copy-of-Sized-for-photo-frames-copy-1.png
ORGANIZER;CN="Rhythmz Lounge":MAILTO:rhythmzlounge@gmail.com
END:VEVENT
BEGIN:VEVENT
DTSTART;TZID=America/Chicago:20251106T220000
DTEND;TZID=America/Chicago:20251107T013000
DTSTAMP:20260419T135930
CREATED:20251105T030143Z
LAST-MODIFIED:20251105T030317Z
UID:10000040-1762466400-1762479000@www.rhythmzlounge.com
SUMMARY:Blackout College Night Party
DESCRIPTION:#1 college parties in Omaha\, NE!
URL:https://www.rhythmzlounge.com/event/blackout-college-night-party/
LOCATION:Rhythmz Lounge\, 10841 Q Street\, Omaha\, NE\, 68137\, United States
ATTACH;FMTTYPE=image/png:https://www.rhythmzlounge.com/wp-content/uploads/2025/11/Copy-of-Sized-for-photo-frames-copy.png
ORGANIZER;CN="Rhythmz Lounge":MAILTO:rhythmzlounge@gmail.com
END:VEVENT
BEGIN:VEVENT
DTSTART;TZID=America/Chicago:20251101T220000
DTEND;TZID=America/Chicago:20251102T020000
DTSTAMP:20260419T135930
CREATED:20250918T202135Z
LAST-MODIFIED:20250918T202135Z
UID:10000030-1762034400-1762048800@www.rhythmzlounge.com
SUMMARY:Reggaetonland
DESCRIPTION:Get ready for the spookiest Latin night of the year! 🎃 Reggaetonland Halloween takes over Rhythmz Lounge with the hottest Reggaeton vibes\, high-energy beats\, and a Halloween party like no other. \n👻 Costume Contests with Cash Prizes: \n\nSexiest\nBest Group Duo\nScariest\n\n  \n📍 Location: Rhythmz Lounge\, 10841 Q St. Omaha\, NE \n🕙 Time: 10PM – 2AM \n📞 Reservations: 402.956.9269 \nDon’t miss the ultimate Halloween Latin experience in Omaha. Dress to impress\, bring your crew\, and party all night long!
URL:https://www.rhythmzlounge.com/event/reggaetonland/
LOCATION:Rhythmz Lounge\, 10841 Q Street\, Omaha\, NE\, 68137\, United States
ATTACH;FMTTYPE=image/jpeg:https://www.rhythmzlounge.com/wp-content/uploads/2025/09/reggaetonland-flyer.jpg
ORGANIZER;CN="Rhythmz Lounge":MAILTO:rhythmzlounge@gmail.com
END:VEVENT
BEGIN:VEVENT
DTSTART;TZID=America/Chicago:20251031T210000
DTEND;TZID=America/Chicago:20251101T020000
DTSTAMP:20260419T135930
CREATED:20251006T004738Z
LAST-MODIFIED:20251006T004738Z
UID:10000035-1761944400-1761962400@www.rhythmzlounge.com
SUMMARY:Haunted Fiestón
DESCRIPTION:The Ultimate Halloween Latin Rave\n\n🎵 Reggaetón | Latin House | Hip-Hop | R&B | Perreo | Old School Classics\n\n🔥 3 DJ’s on Set\n🎟️ Free Admission Before 12AM\n\n📅 Friday\, October 30\n⏰ 10PM – 2AM | 18+ to Enter
URL:https://www.rhythmzlounge.com/event/haunted-fieston/
LOCATION:Rhythmz Lounge\, 10841 Q Street\, Omaha\, NE\, 68137\, United States
ATTACH;FMTTYPE=image/jpeg:https://www.rhythmzlounge.com/wp-content/uploads/2025/10/sdfdfdg-dfdgbcfdb-dvdf.jpg
ORGANIZER;CN="Rhythmz Lounge":MAILTO:rhythmzlounge@gmail.com
END:VEVENT
BEGIN:VEVENT
DTSTART;TZID=America/Chicago:20251030T220000
DTEND;TZID=America/Chicago:20251031T020000
DTSTAMP:20260419T135930
CREATED:20250902T010218Z
LAST-MODIFIED:20251030T045559Z
UID:10000026-1761861600-1761876000@www.rhythmzlounge.com
SUMMARY:Halloween College Night Party
DESCRIPTION:Official 2025 Halloween party. Get your tickets now to ensure entry.
URL:https://www.rhythmzlounge.com/event/halloween-college-night-party/
LOCATION:Rhythmz Lounge\, 10841 Q Street\, Omaha\, NE\, 68137\, United States
ATTACH;FMTTYPE=image/jpeg:https://www.rhythmzlounge.com/wp-content/uploads/2025/09/IMG_20250904_201129.jpg
ORGANIZER;CN="Rhythmz Lounge":MAILTO:rhythmzlounge@gmail.com
END:VEVENT
BEGIN:VEVENT
DTSTART;TZID=America/Chicago:20251024T210000
DTEND;TZID=America/Chicago:20251025T020000
DTSTAMP:20260419T135930
CREATED:20250918T201304Z
LAST-MODIFIED:20250918T204227Z
UID:10000029-1761339600-1761357600@www.rhythmzlounge.com
SUMMARY:La Casa del Terror x Tóxica Takeover
DESCRIPTION:Step into the ultimate Halloween experience at Rhythmz Lounge! La Casa del Terror x Tóxica Takeover brings a night of spooky vibes\, sexy energy\, and tóxica drama you won’t forget. \n🔥 Spooky. Sexy. Tóxica. Drama Never Dies. 🔥 \n  \n👻 Costume Contests – $250 Cash Prize Each:\n\nLa Más Maldita\nScariest\nSexiest\nUgliest\n\n📅 Date: Friday\, October 24 \n⏰ Time: Doors open 9PM – 2AM \n📍 Location: Rhythmz Lounge\, 10841 Q St\, Omaha\, NE \n🍾 VIP Reservations: 402.955.9269
URL:https://www.rhythmzlounge.com/event/la-casa-del-terror-x-toxica-takeover/
LOCATION:Rhythmz Lounge\, 10841 Q Street\, Omaha\, NE\, 68137\, United States
ATTACH;FMTTYPE=image/jpeg:https://www.rhythmzlounge.com/wp-content/uploads/2025/09/toxica-tecxcxxc.jpg
ORGANIZER;CN="Rhythmz Lounge":MAILTO:rhythmzlounge@gmail.com
END:VEVENT
BEGIN:VEVENT
DTSTART;TZID=America/Chicago:20251023T220000
DTEND;TZID=America/Chicago:20251024T013000
DTSTAMP:20260419T135930
CREATED:20251020T024144Z
LAST-MODIFIED:20251020T024253Z
UID:10000038-1761256800-1761269400@www.rhythmzlounge.com
SUMMARY:Prom Halloween College Night Party
DESCRIPTION:#1 College parties in Omaha!
URL:https://www.rhythmzlounge.com/event/prom-halloween-college-night-party/
LOCATION:Rhythmz Lounge\, 10841 Q Street\, Omaha\, NE\, 68137\, United States
ATTACH;FMTTYPE=image/png:https://www.rhythmzlounge.com/wp-content/uploads/2025/10/Copy-of-Sized-for-photo-frames-2.png
ORGANIZER;CN="Rhythmz Lounge":MAILTO:rhythmzlounge@gmail.com
END:VEVENT
BEGIN:VEVENT
DTSTART;TZID=America/Chicago:20251016T220000
DTEND;TZID=America/Chicago:20251017T013000
DTSTAMP:20260419T135930
CREATED:20251013T060241Z
LAST-MODIFIED:20251013T060306Z
UID:10000037-1760652000-1760664600@www.rhythmzlounge.com
SUMMARY:Glow in the Dark Halloween College Night Party
DESCRIPTION:#1 College parties in Omaha.
URL:https://www.rhythmzlounge.com/event/glow-in-the-dark-halloween-college-night-party/
LOCATION:Rhythmz Lounge\, 10841 Q Street\, Omaha\, NE\, 68137\, United States
ATTACH;FMTTYPE=image/png:https://www.rhythmzlounge.com/wp-content/uploads/2025/10/Copy-of-Sized-for-photo-frames-1.png
ORGANIZER;CN="Rhythmz Lounge":MAILTO:rhythmzlounge@gmail.com
END:VEVENT
BEGIN:VEVENT
DTSTART;TZID=America/Chicago:20251009T220000
DTEND;TZID=America/Chicago:20251010T013000
DTSTAMP:20260419T135930
CREATED:20251006T040924Z
LAST-MODIFIED:20251009T184556Z
UID:10000036-1760047200-1760059800@www.rhythmzlounge.com
SUMMARY:Y2K Halloween College Night Party
DESCRIPTION:NEVER SEEN BEFORE! Capacity alert. Presale tickets encouraged.
URL:https://www.rhythmzlounge.com/event/y2k-halloween-college-night-party/
LOCATION:Rhythmz Lounge\, 10841 Q Street\, Omaha\, NE\, 68137\, United States
ATTACH;FMTTYPE=image/png:https://www.rhythmzlounge.com/wp-content/uploads/2025/10/Copy-of-Sized-for-photo-frames-scaled.png
ORGANIZER;CN="Rhythmz Lounge":MAILTO:rhythmzlounge@gmail.com
END:VEVENT
BEGIN:VEVENT
DTSTART;TZID=America/Chicago:20251004T220000
DTEND;TZID=America/Chicago:20251005T020000
DTSTAMP:20260419T135930
CREATED:20250929T215520Z
LAST-MODIFIED:20250929T215520Z
UID:10000034-1759615200-1759629600@www.rhythmzlounge.com
SUMMARY:Noches de Cantina – Ladies Night Edition!
DESCRIPTION:🌹Rhythmz Presents: Noches de Cantina – Ladies Night Edition! 🌹\n\n💃 Ladies FREE before 11PM\n\n📅 Saturday\, Oct. 4 | 21+\n📍 10841 Q St\, Omaha\, NE\n📞 VIP RESO | 402-955-9269\n\nGrab your crew & let’s make it a night to remember 💖🎶\nRoses 🌹 🌹 🌹 for all the ladies
URL:https://www.rhythmzlounge.com/event/noches-de-cantina-ladies-night-edition/
LOCATION:Rhythmz Lounge\, 10841 Q Street\, Omaha\, NE\, 68137\, United States
ATTACH;FMTTYPE=image/jpeg:https://www.rhythmzlounge.com/wp-content/uploads/2025/09/flyer-oc-04-25.jpg
ORGANIZER;CN="Rhythmz Lounge":MAILTO:rhythmzlounge@gmail.com
END:VEVENT
BEGIN:VEVENT
DTSTART;TZID=America/Chicago:20251003T220000
DTEND;TZID=America/Chicago:20251004T020000
DTSTAMP:20260419T135930
CREATED:20250929T214913Z
LAST-MODIFIED:20250929T214913Z
UID:10000033-1759528800-1759543200@www.rhythmzlounge.com
SUMMARY:90s 2000s Latin x Hip-Hop Throwback Classic
DESCRIPTION:Omaha… We’re bringing it BACK!\n\nGet ready for the ultimate 90s | 2000s Latin x Hip-Hop Throwback Classic 🎶🔥\n\n🎵 Reggaetón | Latin House | Hip-Hop | R&B | Perreo | Old School Classics\n\n2 Dj’s | Best of both world\n\n📅 Friday\, October 3rd\n⏰ 10PM – 2AM | 18+
URL:https://www.rhythmzlounge.com/event/90s-2000s-latin-x-hip-hop-throwback-classic/
LOCATION:Rhythmz Lounge\, 10841 Q Street\, Omaha\, NE\, 68137\, United States
ATTACH;FMTTYPE=image/jpeg:https://www.rhythmzlounge.com/wp-content/uploads/2025/09/flyer-oc-03-25.jpg
ORGANIZER;CN="Rhythmz Lounge":MAILTO:rhythmzlounge@gmail.com
END:VEVENT
BEGIN:VEVENT
DTSTART;TZID=America/Chicago:20251002T220000
DTEND;TZID=America/Chicago:20251003T013000
DTSTAMP:20260419T135930
CREATED:20250926T032112Z
LAST-MODIFIED:20250926T032155Z
UID:10000032-1759442400-1759455000@www.rhythmzlounge.com
SUMMARY:Euphoria College Night Party
DESCRIPTION:#1 College parties in Nebraska. Early arrival recommended. Presale tickets encouraged. Tickets will also be available at the door.
URL:https://www.rhythmzlounge.com/event/euphoria-college-night-party-2/
LOCATION:Rhythmz Lounge\, 10841 Q Street\, Omaha\, NE\, 68137\, United States
ATTACH;FMTTYPE=image/png:https://www.rhythmzlounge.com/wp-content/uploads/2025/09/Copy-of-Sized-for-photo-frames-copy-1.png
ORGANIZER;CN="Rhythmz Lounge":MAILTO:rhythmzlounge@gmail.com
END:VEVENT
BEGIN:VEVENT
DTSTART;TZID=America/Chicago:20250926T220000
DTEND;TZID=America/Chicago:20250927T020000
DTSTAMP:20260419T135930
CREATED:20250919T210755Z
LAST-MODIFIED:20250921T223055Z
UID:10000031-1758924000-1758938400@www.rhythmzlounge.com
SUMMARY:Reggaeton x Trap Night
DESCRIPTION:
URL:https://www.rhythmzlounge.com/event/reggaeton-x-trap-night/
LOCATION:Rhythmz Lounge\, 10841 Q Street\, Omaha\, NE\, 68137\, United States
ATTACH;FMTTYPE=image/jpeg:https://www.rhythmzlounge.com/wp-content/uploads/2025/09/xtrap-fly-sdv.jpg
ORGANIZER;CN="Rhythmz Lounge":MAILTO:rhythmzlounge@gmail.com
END:VEVENT
BEGIN:VEVENT
DTSTART;TZID=America/Chicago:20250918T220000
DTEND;TZID=America/Chicago:20250919T013000
DTSTAMP:20260419T135930
CREATED:20250915T051403Z
LAST-MODIFIED:20250915T051511Z
UID:10000028-1758232800-1758245400@www.rhythmzlounge.com
SUMMARY:Y2K College Night Party
DESCRIPTION:Biggest college parties in Omaha.
URL:https://www.rhythmzlounge.com/event/y2k-college-night-party/
LOCATION:Rhythmz Lounge\, 10841 Q Street\, Omaha\, NE\, 68137\, United States
ATTACH;FMTTYPE=image/png:https://www.rhythmzlounge.com/wp-content/uploads/2025/09/Copy-of-Sized-for-photo-frames-copy-scaled.png
ORGANIZER;CN="Rhythmz Lounge":MAILTO:rhythmzlounge@gmail.com
END:VEVENT
BEGIN:VEVENT
DTSTART;TZID=America/Chicago:20250911T220000
DTEND;TZID=America/Chicago:20250912T013000
DTSTAMP:20260419T135930
CREATED:20250908T230611Z
LAST-MODIFIED:20250908T230902Z
UID:10000027-1757628000-1757640600@www.rhythmzlounge.com
SUMMARY:Red Flag College Night Party
DESCRIPTION:Biggest college parties in Omaha\, NE.
URL:https://www.rhythmzlounge.com/event/red-flag-college-night-party/
LOCATION:Rhythmz Lounge\, 10841 Q Street\, Omaha\, NE\, 68137\, United States
ATTACH;FMTTYPE=image/png:https://www.rhythmzlounge.com/wp-content/uploads/2025/09/Copy-of-Sized-for-photo-frames-1.png
ORGANIZER;CN="Rhythmz Lounge":MAILTO:rhythmzlounge@gmail.com
END:VEVENT
BEGIN:VEVENT
DTSTART;TZID=America/Chicago:20250904T220000
DTEND;TZID=America/Chicago:20250905T013000
DTSTAMP:20260419T135930
CREATED:20250901T041747Z
LAST-MODIFIED:20250901T042055Z
UID:10000025-1757023200-1757035800@www.rhythmzlounge.com
SUMMARY:Camo College Night Party
DESCRIPTION:Biggest college parties in Omaha. Theme encouraged\, not required. Early arrival recommended.
URL:https://www.rhythmzlounge.com/event/camo-college-night-party/
LOCATION:Rhythmz Lounge\, 10841 Q Street\, Omaha\, NE\, 68137\, United States
ATTACH;FMTTYPE=image/png:https://www.rhythmzlounge.com/wp-content/uploads/2025/08/Copy-of-Sized-for-photo-frames-1.png
ORGANIZER;CN="Rhythmz Lounge":MAILTO:rhythmzlounge@gmail.com
END:VEVENT
BEGIN:VEVENT
DTSTART;TZID=America/Chicago:20250828T220000
DTEND;TZID=America/Chicago:20250829T013000
DTSTAMP:20260419T135930
CREATED:20250824T012525Z
LAST-MODIFIED:20250824T014453Z
UID:10000024-1756418400-1756431000@www.rhythmzlounge.com
SUMMARY:Hawaiian College Night Party
DESCRIPTION:Biggest college parties in Omaha. Early arrival recommended. Capacity alert.
URL:https://www.rhythmzlounge.com/event/hawaiian-college-night-party/
LOCATION:Rhythmz Lounge\, 10841 Q Street\, Omaha\, NE\, 68137\, United States
ATTACH;FMTTYPE=image/png:https://www.rhythmzlounge.com/wp-content/uploads/2025/08/Copy-of-Sized-for-photo-frames.png
ORGANIZER;CN="Rhythmz Lounge":MAILTO:rhythmzlounge@gmail.com
END:VEVENT
BEGIN:VEVENT
DTSTART;TZID=America/Chicago:20250821T220000
DTEND;TZID=America/Chicago:20250822T013000
DTSTAMP:20260419T135930
CREATED:20250818T033824Z
LAST-MODIFIED:20250820T221245Z
UID:10000023-1755813600-1755826200@www.rhythmzlounge.com
SUMMARY:Black Light College Night Party
DESCRIPTION:Our MOST popular college night theme is back. Limited presale tickets available.
URL:https://www.rhythmzlounge.com/event/black-light-college-night-party/
LOCATION:Rhythmz Lounge\, 10841 Q Street\, Omaha\, NE\, 68137\, United States
ATTACH;FMTTYPE=image/jpeg:https://www.rhythmzlounge.com/wp-content/uploads/2025/08/sdfsvcbf.jpg
ORGANIZER;CN="Rhythmz Lounge":MAILTO:rhythmzlounge@gmail.com
END:VEVENT
BEGIN:VEVENT
DTSTART;TZID=America/Chicago:20250815T210000
DTEND;TZID=America/Chicago:20250816T020000
DTSTAMP:20260419T135930
CREATED:20250726T023952Z
LAST-MODIFIED:20250815T162626Z
UID:10000021-1755291600-1755309600@www.rhythmzlounge.com
SUMMARY:Island After Dark Party - Hosted by Adreina Santos
DESCRIPTION:🌴 ISLAND AFTER DARK 🌴\nFriday\, August 15th | Rhythmz Lounge \nA night full of luxury\, energy & elite company 🔥\nHosted by @adreinasantos & our very own @jessicaasanchez • @ohlawton 💃🏽✨\nTropical glamour • Influencer energy • After-dark vibes only. \n📍 10841 Q St\, Omaha\n🕘 9PM–2AM |\n📲 VIP Package Reservations: 402.955.9269
URL:https://www.rhythmzlounge.com/event/island-after-dark-party-hosted-by-adreina-santos/
LOCATION:Rhythmz Lounge\, 10841 Q Street\, Omaha\, NE\, 68137\, United States
ATTACH;FMTTYPE=image/jpeg:https://www.rhythmzlounge.com/wp-content/uploads/2025/07/IMG_3528.jpg
ORGANIZER;CN="Rhythmz Lounge":MAILTO:rhythmzlounge@gmail.com
END:VEVENT
BEGIN:VEVENT
DTSTART;TZID=America/Chicago:20250807T220000
DTEND;TZID=America/Chicago:20250808T013000
DTSTAMP:20260419T135930
CREATED:20250804T203706Z
LAST-MODIFIED:20250804T203706Z
UID:10000022-1754604000-1754616600@www.rhythmzlounge.com
SUMMARY:Pajama Party College Night
DESCRIPTION:Theme encouraged not required. Limited amount of presale tickets available. Early arrival is recommended.
URL:https://www.rhythmzlounge.com/event/pajama-party-college-night/
LOCATION:Rhythmz Lounge\, 10841 Q Street\, Omaha\, NE\, 68137\, United States
ORGANIZER;CN="Rhythmz Lounge":MAILTO:rhythmzlounge@gmail.com
END:VEVENT
END:VCALENDAR