BEGIN:VCALENDAR
VERSION:2.0
PRODID:-//Rhythmz Lounge - ECPv6.15.17.1//NONSGML v1.0//EN
CALSCALE:GREGORIAN
METHOD:PUBLISH
X-ORIGINAL-URL:https://www.rhythmzlounge.com
X-WR-CALDESC:Events for Rhythmz Lounge
REFRESH-INTERVAL;VALUE=DURATION:PT1H
X-Robots-Tag:noindex
X-PUBLISHED-TTL:PT1H
BEGIN:VTIMEZONE
TZID:America/Chicago
BEGIN:DAYLIGHT
TZOFFSETFROM:-0600
TZOFFSETTO:-0500
TZNAME:CDT
DTSTART:20240310T080000
END:DAYLIGHT
BEGIN:STANDARD
TZOFFSETFROM:-0500
TZOFFSETTO:-0600
TZNAME:CST
DTSTART:20241103T070000
END:STANDARD
BEGIN:DAYLIGHT
TZOFFSETFROM:-0600
TZOFFSETTO:-0500
TZNAME:CDT
DTSTART:20250309T080000
END:DAYLIGHT
BEGIN:STANDARD
TZOFFSETFROM:-0500
TZOFFSETTO:-0600
TZNAME:CST
DTSTART:20251102T070000
END:STANDARD
BEGIN:DAYLIGHT
TZOFFSETFROM:-0600
TZOFFSETTO:-0500
TZNAME:CDT
DTSTART:20260308T080000
END:DAYLIGHT
BEGIN:STANDARD
TZOFFSETFROM:-0500
TZOFFSETTO:-0600
TZNAME:CST
DTSTART:20261101T070000
END:STANDARD
END:VTIMEZONE
BEGIN:VEVENT
DTSTART;TZID=America/Chicago:20250711T220000
DTEND;TZID=America/Chicago:20250712T020000
DTSTAMP:20260423T064632
CREATED:20250707T022757Z
LAST-MODIFIED:20250708T021159Z
UID:10000014-1752271200-1752285600@www.rhythmzlounge.com
SUMMARY:Casa Amor - After Dark
DESCRIPTION:Friday\, July 11 | Rhythmz Lounge | 10PM–2AM\n📍10841 Q Street\, Omaha\, NE\n\nStep into the villa. Stir the pot. Steal the show.\nWe’re bringing the Love Island heat to Rhythmz for one wild night of flirtation\, drama\, and unforgettable energy.\n\n🎧 Sounds by @dj_r1chyy + surprise guests\n🎟 Free Entry Giveaway – Tag your crew on Instagram for a chance to land on our exclusive guest list (50 winners selected at random!)\n💬 Bracelets set the tone:\n🔴 Taken | 🟡 It’s Complicated | 🟢 Single\nLet your vibe speak for itself…\n\n🔥 Dress Code: Come dressed like the hottest bombshell in the villa.\nNo effort\, no entry.\n\nVIP tables & bottle service: Call/text 402.955.9269 to reserve\n18+ to enter | 21+ to drink\nValid Nebraska ID required for entry
URL:https://www.rhythmzlounge.com/event/casa-amor-after-dark/
LOCATION:Rhythmz Lounge\, 10841 Q Street\, Omaha\, NE\, 68137\, United States
ATTACH;FMTTYPE=image/jpeg:https://www.rhythmzlounge.com/wp-content/uploads/2025/07/dsfds-.jpg
ORGANIZER;CN="Rhythmz Lounge":MAILTO:rhythmzlounge@gmail.com
END:VEVENT
BEGIN:VEVENT
DTSTART;TZID=America/Chicago:20250703T210000
DTEND;TZID=America/Chicago:20250704T013000
DTSTAMP:20260423T064632
CREATED:20250630T044249Z
LAST-MODIFIED:20250630T044249Z
UID:10000013-1751576400-1751592600@www.rhythmzlounge.com
SUMMARY:Red\, White & Blue 4th of July College Night Party
DESCRIPTION:Biggest 4th of July college party in Omaha. Limited presale tickets available. Early arrival recommended.
URL:https://www.rhythmzlounge.com/event/red-white-blue-4th-of-july-college-night-party/
LOCATION:Rhythmz Lounge\, 10841 Q Street\, Omaha\, NE\, 68137\, United States
ORGANIZER;CN="Rhythmz Lounge":MAILTO:rhythmzlounge@gmail.com
END:VEVENT
BEGIN:VEVENT
DTSTART;TZID=America/Chicago:20250626T210000
DTEND;TZID=America/Chicago:20250627T013000
DTSTAMP:20260423T064632
CREATED:20250623T224926Z
LAST-MODIFIED:20250623T224926Z
UID:10000012-1750971600-1750987800@www.rhythmzlounge.com
SUMMARY:Cowboys vs. Cowgirls College Night Party
DESCRIPTION:Biggest rodeo themed college night party in Omaha. Theme encouraged NOT required.
URL:https://www.rhythmzlounge.com/event/cowboys-vs-cowgirls-college-night-party/
LOCATION:Rhythmz Lounge\, 10841 Q Street\, Omaha\, NE\, 68137\, United States
ORGANIZER;CN="Rhythmz Lounge":MAILTO:rhythmzlounge@gmail.com
END:VEVENT
BEGIN:VEVENT
DTSTART;TZID=America/Chicago:20250619T210000
DTEND;TZID=America/Chicago:20250620T013000
DTSTAMP:20260423T064632
CREATED:20250609T190019Z
LAST-MODIFIED:20250609T203203Z
UID:10000011-1750366800-1750383000@www.rhythmzlounge.com
SUMMARY:Euphoria College Night Party
DESCRIPTION:Limited presale tickets available\nEarly arrival recommended\nTheme encouraged not required
URL:https://www.rhythmzlounge.com/event/euphoria-college-night-party/
LOCATION:Rhythmz Lounge\, 10841 Q Street\, Omaha\, NE\, 68137\, United States
ATTACH;FMTTYPE=image/png:https://www.rhythmzlounge.com/wp-content/uploads/2025/06/Euphoria-party-official-flyer.png
ORGANIZER;CN="Rhythmz Lounge":MAILTO:rhythmzlounge@gmail.com
END:VEVENT
BEGIN:VEVENT
DTSTART;TZID=America/Chicago:20250605T210000
DTEND;TZID=America/Chicago:20250606T013000
DTSTAMP:20260423T064632
CREATED:20250527T053455Z
LAST-MODIFIED:20250527T053514Z
UID:10000010-1749157200-1749173400@www.rhythmzlounge.com
SUMMARY:The Beach Party College Night
DESCRIPTION:CAPACITY ALERT. LIMITED PRESALE TICKETS AVAILABLE.
URL:https://www.rhythmzlounge.com/event/the-beach-party-college-night/
LOCATION:Rhythmz Lounge\, 10841 Q Street\, Omaha\, NE\, 68137\, United States
ATTACH;FMTTYPE=image/png:https://www.rhythmzlounge.com/wp-content/uploads/2025/05/Beach-Party-college-night-.png
ORGANIZER;CN="Rhythmz Lounge":MAILTO:rhythmzlounge@gmail.com
END:VEVENT
BEGIN:VEVENT
DTSTART;TZID=America/Chicago:20250525T210000
DTEND;TZID=America/Chicago:20250526T023000
DTSTAMP:20260423T064633
CREATED:20250521T151539Z
LAST-MODIFIED:20250521T151539Z
UID:10000009-1748206800-1748226600@www.rhythmzlounge.com
SUMMARY:Baddies Bash
DESCRIPTION:A Black & White Event with celebrity guest Slim from Baddies Midwest & Baddies South and T-RELL
URL:https://www.rhythmzlounge.com/event/baddies-bash/
LOCATION:Rhythmz Lounge\, 10841 Q Street\, Omaha\, NE\, 68137\, United States
ATTACH;FMTTYPE=image/jpeg:https://www.rhythmzlounge.com/wp-content/uploads/2025/05/att.y-o7vTY0GCucDvm11OobGyI7oUNASxyyEJXs0xvFKZQ.jpg
ORGANIZER;CN="Rhythmz Lounge":MAILTO:rhythmzlounge@gmail.com
END:VEVENT
BEGIN:VEVENT
DTSTART;TZID=America/Chicago:20250524T210000
DTEND;TZID=America/Chicago:20250525T020000
DTSTAMP:20260423T064633
CREATED:20250310T225530Z
LAST-MODIFIED:20250524T155019Z
UID:10000003-1748120400-1748138400@www.rhythmzlounge.com
SUMMARY:AdonIII
DESCRIPTION:You’re invited to a special weekend celebration at Rhythmz ft Dj Adoni and our local residency support. Bringing his authenticity to Onaha NE for the very first time. This will be a very well high energy event to say the least. Tickets will go fast; please reserve yours today for guaranteed entry to this event. \n📅 Saturday\, May 24th\, 2025 (Memorial Weekend)\n📍 Rhythmz Lounge\n⚠️ Free Parking in the front and rear of the building\, first come\, fist serve\n🪧 VIP Parking available at additional cost\n🎟️ Tickets are on sale now. Lets make this a memorable one.
URL:https://www.rhythmzlounge.com/event/adoniii/
LOCATION:NE
ATTACH;FMTTYPE=image/jpeg:https://www.rhythmzlounge.com/wp-content/uploads/2025/03/482259029_2120633775046300_5668935939543064716_n.jpg
END:VEVENT
BEGIN:VEVENT
DTSTART;TZID=America/Chicago:20250522T210000
DTEND;TZID=America/Chicago:20250523T013000
DTSTAMP:20260423T064633
CREATED:20250511T120214Z
LAST-MODIFIED:20250511T191952Z
UID:10000008-1747947600-1747963800@www.rhythmzlounge.com
SUMMARY:White Lies + Red Flag College Night Party
DESCRIPTION:Theme encouraged not required. Limited amount of presale tickets.
URL:https://www.rhythmzlounge.com/event/white-lies-red-flag-college-night-party/
LOCATION:NE
ATTACH;FMTTYPE=image/png:https://www.rhythmzlounge.com/wp-content/uploads/2025/05/Official-flyer.png
END:VEVENT
BEGIN:VEVENT
DTSTART;TZID=America/Chicago:20250508T210000
DTEND;TZID=America/Chicago:20250509T013000
DTSTAMP:20260423T064633
CREATED:20250502T031147Z
LAST-MODIFIED:20250502T191045Z
UID:10000007-1746738000-1746754200@www.rhythmzlounge.com
SUMMARY:Angels vs. Devils College Night Party
DESCRIPTION:Presale tickets encouraged. Theme encouraged NOT required. Free parking available. Early arrival recommended
URL:https://www.rhythmzlounge.com/event/angels-vs-devils-college-night-party/
LOCATION:Rhythmz Lounge\, 10841 Q Street\, Omaha\, NE\, 68137\, United States
ATTACH;FMTTYPE=image/jpeg:https://www.rhythmzlounge.com/wp-content/uploads/2025/05/Copy-of-Sized-for-photo-frames.jpeg
ORGANIZER;CN="Rhythmz Lounge":MAILTO:rhythmzlounge@gmail.com
END:VEVENT
BEGIN:VEVENT
DTSTART;TZID=America/Chicago:20250424T090000
DTEND;TZID=America/Chicago:20250425T013000
DTSTAMP:20260423T064633
CREATED:20250412T225943Z
LAST-MODIFIED:20250412T225943Z
UID:10000005-1745485200-1745544600@www.rhythmzlounge.com
SUMMARY:Caddies and Baddies College Night Party
DESCRIPTION:Golf themed\nPresale tickets and early arrival recommended\nDoor tickets will be available
URL:https://www.rhythmzlounge.com/event/caddies-and-baddies-college-night-party/
LOCATION:Rhythmz Lounge\, 10841 Q Street\, Omaha\, NE\, 68137\, United States
ORGANIZER;CN="Rhythmz Lounge":MAILTO:rhythmzlounge@gmail.com
END:VEVENT
BEGIN:VEVENT
DTSTART;TZID=America/Chicago:20250410T210000
DTEND;TZID=America/Chicago:20250411T013000
DTSTAMP:20260423T064633
CREATED:20250331T202637Z
LAST-MODIFIED:20250402T111127Z
UID:10000004-1744318800-1744335000@www.rhythmzlounge.com
SUMMARY:Spring Twerk College Night Party
DESCRIPTION:
URL:https://www.rhythmzlounge.com/event/spring-twerk-college-night-party/
LOCATION:NE
ORGANIZER;CN="Rhythmz Lounge":MAILTO:rhythmzlounge@gmail.com
END:VEVENT
END:VCALENDAR